BEGIN:VCALENDAR
VERSION:2.0
PRODID:-//Etablissement St Amand de Bayonne - ECPv4.6.22.1//NONSGML v1.0//EN
CALSCALE:GREGORIAN
METHOD:PUBLISH
X-WR-CALNAME:Etablissement St Amand de Bayonne
X-ORIGINAL-URL:https://saintamandbayonne.fr
X-WR-CALDESC:Évènements pour Etablissement St Amand de Bayonne
BEGIN:VEVENT
DTSTART;TZID=Europe/Paris:20230516T080000
DTEND;TZID=Europe/Paris:20230526T170000
DTSTAMP:20260425T194336
CREATED:20230312T174831Z
LAST-MODIFIED:20230312T174831Z
UID:8376-1684224000-1685120400@saintamandbayonne.fr
SUMMARY:Accueil des élèves de Kansas City
DESCRIPTION:
URL:https://saintamandbayonne.fr/event/accueil-des-eleves-de-kansas-city/
END:VEVENT
END:VCALENDAR