BEGIN:VCALENDAR
VERSION:2.0
PRODID:-//Etablissement St Amand de Bayonne - ECPv4.6.22.1//NONSGML v1.0//EN
CALSCALE:GREGORIAN
METHOD:PUBLISH
X-WR-CALNAME:Etablissement St Amand de Bayonne
X-ORIGINAL-URL:https://saintamandbayonne.fr
X-WR-CALDESC:Évènements pour Etablissement St Amand de Bayonne
BEGIN:VEVENT
DTSTART;TZID=Europe/Paris:20230525T133000
DTEND;TZID=Europe/Paris:20230525T163000
DTSTAMP:20260425T175909
CREATED:20230518T192217Z
LAST-MODIFIED:20230518T192217Z
UID:8591-1685021400-1685032200@saintamandbayonne.fr
SUMMARY:ASSR1 en 5ème
DESCRIPTION:
URL:https://saintamandbayonne.fr/event/assr1-en-5eme/
END:VEVENT
END:VCALENDAR