BEGIN:VCALENDAR
VERSION:2.0
PRODID:-//Etablissement St Amand de Bayonne - ECPv4.6.22.1//NONSGML v1.0//EN
CALSCALE:GREGORIAN
METHOD:PUBLISH
X-WR-CALNAME:Etablissement St Amand de Bayonne
X-ORIGINAL-URL:https://saintamandbayonne.fr
X-WR-CALDESC:Évènements pour Etablissement St Amand de Bayonne
BEGIN:VEVENT
DTSTART;TZID=Europe/Paris:20230321T170000
DTEND;TZID=Europe/Paris:20230321T200000
DTSTAMP:20260425T210444
CREATED:20230205T181051Z
LAST-MODIFIED:20230205T181051Z
UID:8289-1679418000-1679428800@saintamandbayonne.fr
SUMMARY:Conseils de classe des 4A et 3C
DESCRIPTION:
URL:https://saintamandbayonne.fr/event/conseils-de-classe-des-4a-et-3c/
END:VEVENT
END:VCALENDAR