BEGIN:VCALENDAR
VERSION:2.0
PRODID:-//Etablissement St Amand de Bayonne - ECPv4.6.22.1//NONSGML v1.0//EN
CALSCALE:GREGORIAN
METHOD:PUBLISH
X-WR-CALNAME:Etablissement St Amand de Bayonne
X-ORIGINAL-URL:https://saintamandbayonne.fr
X-WR-CALDESC:Évènements pour Etablissement St Amand de Bayonne
BEGIN:VEVENT
DTSTART;TZID=Europe/Paris:20230313T170000
DTEND;TZID=Europe/Paris:20230313T200000
DTSTAMP:20260426T000517
CREATED:20230205T180802Z
LAST-MODIFIED:20230205T180802Z
UID:8281-1678726800-1678737600@saintamandbayonne.fr
SUMMARY:Conseils de classe des 5A et 5B
DESCRIPTION:
URL:https://saintamandbayonne.fr/event/conseils-de-classe-des-5a-et-5b-2/
END:VEVENT
END:VCALENDAR