BEGIN:VCALENDAR
VERSION:2.0
PRODID:-//Etablissement St Amand de Bayonne - ECPv4.6.22.1//NONSGML v1.0//EN
CALSCALE:GREGORIAN
METHOD:PUBLISH
X-WR-CALNAME:Etablissement St Amand de Bayonne
X-ORIGINAL-URL:https://saintamandbayonne.fr
X-WR-CALDESC:Évènements pour Etablissement St Amand de Bayonne
BEGIN:VEVENT
DTSTART;TZID=Europe/Paris:20230314T170000
DTEND;TZID=Europe/Paris:20230314T200000
DTSTAMP:20260426T014222
CREATED:20230205T180844Z
LAST-MODIFIED:20230205T180844Z
UID:8283-1678813200-1678824000@saintamandbayonne.fr
SUMMARY:Conseils de classe des 5C et 6A
DESCRIPTION:
URL:https://saintamandbayonne.fr/event/conseils-de-classe-des-5c-et-6a/
END:VEVENT
END:VCALENDAR