BEGIN:VCALENDAR
VERSION:2.0
PRODID:-//Etablissement St Amand de Bayonne - ECPv4.6.22.1//NONSGML v1.0//EN
CALSCALE:GREGORIAN
METHOD:PUBLISH
X-WR-CALNAME:Etablissement St Amand de Bayonne
X-ORIGINAL-URL:https://saintamandbayonne.fr
X-WR-CALDESC:Évènements pour Etablissement St Amand de Bayonne
BEGIN:VEVENT
DTSTART;TZID=Europe/Paris:20230323T153000
DTEND;TZID=Europe/Paris:20230323T163000
DTSTAMP:20260425T221452
CREATED:20230312T173655Z
LAST-MODIFIED:20230312T173655Z
UID:8352-1679585400-1679589000@saintamandbayonne.fr
SUMMARY:Evalang 3A
DESCRIPTION:
URL:https://saintamandbayonne.fr/event/evalang-3a/
END:VEVENT
END:VCALENDAR