BEGIN:VCALENDAR
VERSION:2.0
PRODID:-//Etablissement St Amand de Bayonne - ECPv4.6.22.1//NONSGML v1.0//EN
CALSCALE:GREGORIAN
METHOD:PUBLISH
X-WR-CALNAME:Etablissement St Amand de Bayonne
X-ORIGINAL-URL:https://saintamandbayonne.fr
X-WR-CALDESC:Évènements pour Etablissement St Amand de Bayonne
BEGIN:VEVENT
DTSTART;TZID=Europe/Paris:20230327T133000
DTEND;TZID=Europe/Paris:20230327T150000
DTSTAMP:20260425T222959
CREATED:20230312T173918Z
LAST-MODIFIED:20230312T173918Z
UID:8358-1679923800-1679929200@saintamandbayonne.fr
SUMMARY:Pix en 3B
DESCRIPTION:
URL:https://saintamandbayonne.fr/event/pix-en-3b/
END:VEVENT
END:VCALENDAR