BEGIN:VCALENDAR
VERSION:2.0
PRODID:-//Etablissement St Amand de Bayonne - ECPv4.6.22.1//NONSGML v1.0//EN
CALSCALE:GREGORIAN
METHOD:PUBLISH
X-WR-CALNAME:Etablissement St Amand de Bayonne
X-ORIGINAL-URL:https://saintamandbayonne.fr
X-WR-CALDESC:Évènements pour Etablissement St Amand de Bayonne
BEGIN:VEVENT
DTSTART;TZID=Europe/Paris:20230325T093000
DTEND;TZID=Europe/Paris:20230325T123000
DTSTAMP:20260425T210253
CREATED:20230312T173532Z
LAST-MODIFIED:20230312T173532Z
UID:8348-1679736600-1679747400@saintamandbayonne.fr
SUMMARY:Portes Ouvertes
DESCRIPTION:Accueil des nouvelles familles inscrites à l’école et au collège \n
URL:https://saintamandbayonne.fr/event/portes-ouvertes-6/
END:VEVENT
END:VCALENDAR