BEGIN:VCALENDAR
VERSION:2.0
PRODID:-//Etablissement St Amand de Bayonne - ECPv4.6.22.1//NONSGML v1.0//EN
CALSCALE:GREGORIAN
METHOD:PUBLISH
X-WR-CALNAME:Etablissement St Amand de Bayonne
X-ORIGINAL-URL:https://saintamandbayonne.fr
X-WR-CALDESC:Évènements pour Etablissement St Amand de Bayonne
BEGIN:VEVENT
DTSTART;TZID=Europe/Paris:20230327T170000
DTEND;TZID=Europe/Paris:20230327T180000
DTSTAMP:20260425T223522
CREATED:20230312T174148Z
LAST-MODIFIED:20230312T174148Z
UID:8364-1679936400-1679940000@saintamandbayonne.fr
SUMMARY:Réunion d'information sur le voyage à Paris des 5èmes
DESCRIPTION:
URL:https://saintamandbayonne.fr/event/reunion-dinformation-sur-le-voyage-a-paris-des-5emes/
END:VEVENT
END:VCALENDAR