BEGIN:VCALENDAR
VERSION:2.0
PRODID:-//Etablissement St Amand de Bayonne - ECPv4.6.22.1//NONSGML v1.0//EN
CALSCALE:GREGORIAN
METHOD:PUBLISH
X-WR-CALNAME:Etablissement St Amand de Bayonne
X-ORIGINAL-URL:https://saintamandbayonne.fr
X-WR-CALDESC:Évènements pour Etablissement St Amand de Bayonne
BEGIN:VEVENT
DTSTART;TZID=Europe/Paris:20230227T080000
DTEND;TZID=Europe/Paris:20230303T170000
DTSTAMP:20260426T000619
CREATED:20230205T180701Z
LAST-MODIFIED:20230205T180701Z
UID:8279-1677484800-1677862800@saintamandbayonne.fr
SUMMARY:Séjour au ski des 6èmes
DESCRIPTION:
URL:https://saintamandbayonne.fr/event/sejour-au-ski-des-6emes-2/
END:VEVENT
END:VCALENDAR