BEGIN:VCALENDAR
VERSION:2.0
PRODID:-//Etablissement St Amand de Bayonne - ECPv4.6.22.1//NONSGML v1.0//EN
CALSCALE:GREGORIAN
METHOD:PUBLISH
X-WR-CALNAME:Etablissement St Amand de Bayonne
X-ORIGINAL-URL:https://saintamandbayonne.fr
X-WR-CALDESC:Évènements pour Etablissement St Amand de Bayonne
BEGIN:VEVENT
DTSTART;TZID=Europe/Paris:20230403T080000
DTEND;TZID=Europe/Paris:20230407T170000
DTSTAMP:20260425T180248
CREATED:20230205T182057Z
LAST-MODIFIED:20230205T182057Z
UID:8316-1680508800-1680886800@saintamandbayonne.fr
SUMMARY:Stage en entreprise des 4èmes
DESCRIPTION:
URL:https://saintamandbayonne.fr/event/stage-en-entreprise-des-4emes-3/
END:VEVENT
END:VCALENDAR