BEGIN:VCALENDAR
VERSION:2.0
PRODID:-//Etablissement St Amand de Bayonne - ECPv4.6.22.1//NONSGML v1.0//EN
CALSCALE:GREGORIAN
METHOD:PUBLISH
X-WR-CALNAME:Etablissement St Amand de Bayonne
X-ORIGINAL-URL:https://saintamandbayonne.fr
X-WR-CALDESC:Évènements pour Etablissement St Amand de Bayonne
BEGIN:VEVENT
DTSTART;TZID=Europe/Paris:20230525T140000
DTEND;TZID=Europe/Paris:20230525T170000
DTSTAMP:20260425T193217
CREATED:20230518T192317Z
LAST-MODIFIED:20230518T192317Z
UID:8593-1685023200-1685034000@saintamandbayonne.fr
SUMMARY:Théâtre pour les 4èmes
DESCRIPTION:Les 3 mousquetaires à la Gare du Midi à Biarritz \n
URL:https://saintamandbayonne.fr/event/theatre-pour-les-4emes/
END:VEVENT
END:VCALENDAR