BEGIN:VCALENDAR
VERSION:2.0
PRODID:-//Etablissement St Amand de Bayonne - ECPv4.6.22.1//NONSGML v1.0//EN
CALSCALE:GREGORIAN
METHOD:PUBLISH
X-WR-CALNAME:Etablissement St Amand de Bayonne
X-ORIGINAL-URL:https://saintamandbayonne.fr
X-WR-CALDESC:Évènements pour Etablissement St Amand de Bayonne
BEGIN:VEVENT
DTSTART;TZID=Europe/Paris:20230331T093000
DTEND;TZID=Europe/Paris:20230331T123000
DTSTAMP:20260425T223609
CREATED:20230312T174551Z
LAST-MODIFIED:20230312T174551Z
UID:8372-1680255000-1680265800@saintamandbayonne.fr
SUMMARY:Visite de France Bleu Pays Basque par les élèves de la Web radio
DESCRIPTION:
URL:https://saintamandbayonne.fr/event/visite-de-france-bleu-pays-basque-par-les-eleves-de-la-web-radio/
END:VEVENT
END:VCALENDAR