BEGIN:VCALENDAR
VERSION:2.0
PRODID:-//Etablissement St Amand de Bayonne - ECPv4.6.22.1//NONSGML v1.0//EN
CALSCALE:GREGORIAN
METHOD:PUBLISH
X-WR-CALNAME:Etablissement St Amand de Bayonne
X-ORIGINAL-URL:https://saintamandbayonne.fr
X-WR-CALDESC:Évènements pour Etablissement St Amand de Bayonne
BEGIN:VEVENT
DTSTART;TZID=Europe/Paris:20180616T090000
DTEND;TZID=Europe/Paris:20180616T120000
DTSTAMP:20260425T023504
CREATED:20180609T074919Z
LAST-MODIFIED:20180609T074919Z
UID:2454-1529139600-1529150400@saintamandbayonne.fr
SUMMARY:Matinée découverte
DESCRIPTION:Matinée découverte des classes de Maternelle et de Primaire pour les familles des élèves inscrits à la rentrée 2018. \n
URL:https://saintamandbayonne.fr/event/matinee-decouverte-2/
END:VEVENT
END:VCALENDAR