BEGIN:VCALENDAR
VERSION:2.0
PRODID:-//Etablissement St Amand de Bayonne - ECPv4.6.22.1//NONSGML v1.0//EN
CALSCALE:GREGORIAN
METHOD:PUBLISH
X-WR-CALNAME:Etablissement St Amand de Bayonne
X-ORIGINAL-URL:https://saintamandbayonne.fr
X-WR-CALDESC:Évènements pour Etablissement St Amand de Bayonne
BEGIN:VEVENT
DTSTART;TZID=Europe/Paris:20180622T080000
DTEND;TZID=Europe/Paris:20180622T170000
DTSTAMP:20260425T023632
CREATED:20180219T131011Z
LAST-MODIFIED:20180310T081057Z
UID:1737-1529654400-1529686800@saintamandbayonne.fr
SUMMARY:Fête de l'école
DESCRIPTION:Célébration le matin \nFête l’après-midi au lycée Villa Pia \n
URL:https://saintamandbayonne.fr/event/fete-du-college/
END:VEVENT
END:VCALENDAR