BEGIN:VCALENDAR
VERSION:2.0
PRODID:-//Etablissement St Amand de Bayonne - ECPv4.6.22.1//NONSGML v1.0//EN
CALSCALE:GREGORIAN
METHOD:PUBLISH
X-WR-CALNAME:Etablissement St Amand de Bayonne
X-ORIGINAL-URL:https://saintamandbayonne.fr
X-WR-CALDESC:Évènements pour Etablissement St Amand de Bayonne
BEGIN:VEVENT
DTSTART;TZID=Europe/Paris:20180625T133000
DTEND;TZID=Europe/Paris:20180625T163000
DTSTAMP:20260425T010756
CREATED:20180609T075054Z
LAST-MODIFIED:20180609T075054Z
UID:2456-1529933400-1529944200@saintamandbayonne.fr
SUMMARY:Visite de Canopia
DESCRIPTION:Visite du site de Canopia pour les élèves de 5C \n
URL:https://saintamandbayonne.fr/event/visite-de-canopia/
END:VEVENT
END:VCALENDAR