BEGIN:VCALENDAR
VERSION:2.0
PRODID:-//Etablissement St Amand de Bayonne - ECPv4.6.22.1//NONSGML v1.0//EN
CALSCALE:GREGORIAN
METHOD:PUBLISH
X-WR-CALNAME:Etablissement St Amand de Bayonne
X-ORIGINAL-URL:https://saintamandbayonne.fr
X-WR-CALDESC:Évènements pour Etablissement St Amand de Bayonne
BEGIN:VEVENT
DTSTART;TZID=Europe/Paris:20180626T080000
DTEND;TZID=Europe/Paris:20180626T170000
DTSTAMP:20260425T023515
CREATED:20180219T130844Z
LAST-MODIFIED:20180310T081225Z
UID:1735-1530000000-1530032400@saintamandbayonne.fr
SUMMARY:Fin des cours au collège
DESCRIPTION:Fin des cours le matin \nFête du collège l’après-midi \n
URL:https://saintamandbayonne.fr/event/fin-des-cours-au-college/
END:VEVENT
END:VCALENDAR