BEGIN:VCALENDAR
VERSION:2.0
PRODID:-//Etablissement St Amand de Bayonne - ECPv4.6.22.1//NONSGML v1.0//EN
CALSCALE:GREGORIAN
METHOD:PUBLISH
X-WR-CALNAME:Etablissement St Amand de Bayonne
X-ORIGINAL-URL:https://saintamandbayonne.fr
X-WR-CALDESC:Évènements pour Etablissement St Amand de Bayonne
BEGIN:VEVENT
DTSTART;TZID=Europe/Paris:20180904T083000
DTEND;TZID=Europe/Paris:20180904T170000
DTSTAMP:20260424T215305
CREATED:20180710T125050Z
LAST-MODIFIED:20180710T125050Z
UID:2839-1536049800-1536080400@saintamandbayonne.fr
SUMMARY:Rentrée des classes de 5ème\, 4ème\, 3ème
DESCRIPTION:
URL:https://saintamandbayonne.fr/event/rentree-des-classes-de-5eme-4eme-3eme/
END:VEVENT
END:VCALENDAR