BEGIN:VCALENDAR
VERSION:2.0
PRODID:-//Etablissement St Amand de Bayonne - ECPv4.6.22.1//NONSGML v1.0//EN
CALSCALE:GREGORIAN
METHOD:PUBLISH
X-WR-CALNAME:Etablissement St Amand de Bayonne
X-ORIGINAL-URL:https://saintamandbayonne.fr
X-WR-CALDESC:Évènements pour Etablissement St Amand de Bayonne
BEGIN:VEVENT
DTSTART;TZID=Europe/Paris:20181019T093000
DTEND;TZID=Europe/Paris:20181019T103000
DTSTAMP:20260424T203156
CREATED:20180924T195748Z
LAST-MODIFIED:20180924T195748Z
UID:3093-1539941400-1539945000@saintamandbayonne.fr
SUMMARY:Célébration de rentrée
DESCRIPTION:Célébration à l’église St Amand pour la maternelle\, l’école et le collège. \n
URL:https://saintamandbayonne.fr/event/celebration-de-rentree-2/
END:VEVENT
END:VCALENDAR