BEGIN:VCALENDAR
VERSION:2.0
PRODID:-//Etablissement St Amand de Bayonne - ECPv4.6.22.1//NONSGML v1.0//EN
CALSCALE:GREGORIAN
METHOD:PUBLISH
X-WR-CALNAME:Etablissement St Amand de Bayonne
X-ORIGINAL-URL:https://saintamandbayonne.fr
X-WR-CALDESC:Évènements pour Etablissement St Amand de Bayonne
BEGIN:VEVENT
DTSTART;TZID=Europe/Paris:20181123T083000
DTEND;TZID=Europe/Paris:20181123T163000
DTSTAMP:20260424T190653
CREATED:20181116T221434Z
LAST-MODIFIED:20181116T221434Z
UID:3421-1542961800-1542990600@saintamandbayonne.fr
SUMMARY:Sortie des CE2
DESCRIPTION:Jeux à Bayonne \n
URL:https://saintamandbayonne.fr/event/sortie-des-ce2/
END:VEVENT
END:VCALENDAR