BEGIN:VCALENDAR
VERSION:2.0
PRODID:-//Etablissement St Amand de Bayonne - ECPv4.6.22.1//NONSGML v1.0//EN
CALSCALE:GREGORIAN
METHOD:PUBLISH
X-WR-CALNAME:Etablissement St Amand de Bayonne
X-ORIGINAL-URL:https://saintamandbayonne.fr
X-WR-CALDESC:Évènements pour Etablissement St Amand de Bayonne
BEGIN:VEVENT
DTSTART;TZID=Europe/Paris:20181204T083000
DTEND;TZID=Europe/Paris:20181204T163000
DTSTAMP:20260424T172948
CREATED:20181201T213157Z
LAST-MODIFIED:20181201T213222Z
UID:3592-1543912200-1543941000@saintamandbayonne.fr
SUMMARY:Sortie des CM1B
DESCRIPTION:Sortie sur le thème du Moyen Age \n
URL:https://saintamandbayonne.fr/event/sortie-des-cm1b/
END:VEVENT
END:VCALENDAR