BEGIN:VCALENDAR
VERSION:2.0
PRODID:-//Etablissement St Amand de Bayonne - ECPv4.6.22.1//NONSGML v1.0//EN
CALSCALE:GREGORIAN
METHOD:PUBLISH
X-WR-CALNAME:Etablissement St Amand de Bayonne
X-ORIGINAL-URL:https://saintamandbayonne.fr
X-WR-CALDESC:Évènements pour Etablissement St Amand de Bayonne
BEGIN:VEVENT
DTSTART;TZID=Europe/Paris:20181207T080000
DTEND;TZID=Europe/Paris:20181207T083000
DTSTAMP:20260424T173104
CREATED:20181023T121149Z
LAST-MODIFIED:20181023T121149Z
UID:3263-1544169600-1544171400@saintamandbayonne.fr
SUMMARY:Messe
DESCRIPTION:Messe préparée par les CM/6ième. \n
URL:https://saintamandbayonne.fr/event/messe-2/
END:VEVENT
BEGIN:VEVENT
DTSTART;TZID=Europe/Paris:20181207T103000
DTEND;TZID=Europe/Paris:20181207T123000
DTSTAMP:20260424T173104
CREATED:20181201T213031Z
LAST-MODIFIED:20181201T213031Z
UID:3590-1544178600-1544185800@saintamandbayonne.fr
SUMMARY:Parcours avenir en 5ème
DESCRIPTION:Anticipe ton futur : module « connaissance de soi ». \n
URL:https://saintamandbayonne.fr/event/parcours-avenir-en-5eme/
END:VEVENT
END:VCALENDAR