BEGIN:VCALENDAR
VERSION:2.0
PRODID:-//Etablissement St Amand de Bayonne - ECPv4.6.22.1//NONSGML v1.0//EN
CALSCALE:GREGORIAN
METHOD:PUBLISH
X-WR-CALNAME:Etablissement St Amand de Bayonne
X-ORIGINAL-URL:https://saintamandbayonne.fr
X-WR-CALDESC:Évènements pour Etablissement St Amand de Bayonne
BEGIN:VEVENT
DTSTART;TZID=Europe/Paris:20181210T170000
DTEND;TZID=Europe/Paris:20181210T193000
DTSTAMP:20260424T173103
CREATED:20181116T221835Z
LAST-MODIFIED:20181207T202631Z
UID:3423-1544461200-1544470200@saintamandbayonne.fr
SUMMARY:Conseil de classe 5A
DESCRIPTION:
URL:https://saintamandbayonne.fr/event/conseils-de-classe-5a-et-5b/
END:VEVENT
END:VCALENDAR