BEGIN:VCALENDAR
VERSION:2.0
PRODID:-//Etablissement St Amand de Bayonne - ECPv4.6.22.1//NONSGML v1.0//EN
CALSCALE:GREGORIAN
METHOD:PUBLISH
X-WR-CALNAME:Etablissement St Amand de Bayonne
X-ORIGINAL-URL:https://saintamandbayonne.fr
X-WR-CALDESC:Évènements pour Etablissement St Amand de Bayonne
BEGIN:VEVENT
DTSTART;TZID=Europe/Paris:20181222T170000
DTEND;TZID=Europe/Paris:20190106T083000
DTSTAMP:20260424T160719
CREATED:20181201T213509Z
LAST-MODIFIED:20181201T213509Z
UID:3594-1545498000-1546763400@saintamandbayonne.fr
SUMMARY:Vacances
DESCRIPTION:
URL:https://saintamandbayonne.fr/event/vacances-4/
END:VEVENT
END:VCALENDAR