BEGIN:VCALENDAR
VERSION:2.0
PRODID:-//Etablissement St Amand de Bayonne - ECPv4.6.22.1//NONSGML v1.0//EN
CALSCALE:GREGORIAN
METHOD:PUBLISH
X-WR-CALNAME:Etablissement St Amand de Bayonne
X-ORIGINAL-URL:https://saintamandbayonne.fr
X-WR-CALDESC:Évènements pour Etablissement St Amand de Bayonne
BEGIN:VEVENT
DTSTART;TZID=Europe/Paris:20190118T180000
DTEND;TZID=Europe/Paris:20190118T190000
DTSTAMP:20260424T160849
CREATED:20190107T120440Z
LAST-MODIFIED:20190107T120440Z
UID:3625-1547834400-1547838000@saintamandbayonne.fr
SUMMARY:Remise des diplômes du Brevet
DESCRIPTION:Remise des diplômes du Brevet aux anciens élèves de 3ème \n
URL:https://saintamandbayonne.fr/event/remise-des-diplomes-du-brevet/
END:VEVENT
END:VCALENDAR