BEGIN:VCALENDAR
VERSION:2.0
PRODID:-//Etablissement St Amand de Bayonne - ECPv4.6.22.1//NONSGML v1.0//EN
CALSCALE:GREGORIAN
METHOD:PUBLISH
X-WR-CALNAME:Etablissement St Amand de Bayonne
X-ORIGINAL-URL:https://saintamandbayonne.fr
X-WR-CALDESC:Évènements pour Etablissement St Amand de Bayonne
BEGIN:VEVENT
DTSTART;TZID=Europe/Paris:20190122T103000
DTEND;TZID=Europe/Paris:20190122T123000
DTSTAMP:20260424T160228
CREATED:20190119T193524Z
LAST-MODIFIED:20190119T193524Z
UID:3672-1548153000-1548160200@saintamandbayonne.fr
SUMMARY:5ABC : Parcours avenir
DESCRIPTION:Les représentations homme/femme dans les métiers. \n
URL:https://saintamandbayonne.fr/event/5abc-parcours-avenir/
END:VEVENT
BEGIN:VEVENT
DTSTART;TZID=Europe/Paris:20190122T170000
DTEND;TZID=Europe/Paris:20190122T193000
DTSTAMP:20260424T160228
CREATED:20181201T213904Z
LAST-MODIFIED:20181201T213904Z
UID:3598-1548176400-1548185400@saintamandbayonne.fr
SUMMARY:Mini conseils de 6ème
DESCRIPTION:
URL:https://saintamandbayonne.fr/event/mini-conseils-de-6eme/
END:VEVENT
END:VCALENDAR