BEGIN:VCALENDAR
VERSION:2.0
PRODID:-//Etablissement St Amand de Bayonne - ECPv4.6.22.1//NONSGML v1.0//EN
CALSCALE:GREGORIAN
METHOD:PUBLISH
X-WR-CALNAME:Etablissement St Amand de Bayonne
X-ORIGINAL-URL:https://saintamandbayonne.fr
X-WR-CALDESC:Évènements pour Etablissement St Amand de Bayonne
BEGIN:VEVENT
DTSTART;TZID=Europe/Paris:20190124T143000
DTEND;TZID=Europe/Paris:20190124T153000
DTSTAMP:20260424T160158
CREATED:20190119T193230Z
LAST-MODIFIED:20190119T193230Z
UID:3668-1548340200-1548343800@saintamandbayonne.fr
SUMMARY:5B : Parcours santé
DESCRIPTION:Intervention de Mme Lerole sur les maladies nutritionnelles. \n
URL:https://saintamandbayonne.fr/event/5b-parcours-sante/
END:VEVENT
END:VCALENDAR