BEGIN:VCALENDAR
VERSION:2.0
PRODID:-//Etablissement St Amand de Bayonne - ECPv4.6.22.1//NONSGML v1.0//EN
CALSCALE:GREGORIAN
METHOD:PUBLISH
X-WR-CALNAME:Etablissement St Amand de Bayonne
X-ORIGINAL-URL:https://saintamandbayonne.fr
X-WR-CALDESC:Évènements pour Etablissement St Amand de Bayonne
BEGIN:VEVENT
DTSTART;TZID=Europe/Paris:20190211T080000
DTEND;TZID=Europe/Paris:20190215T170000
DTSTAMP:20260424T144625
CREATED:20181201T214122Z
LAST-MODIFIED:20181201T214122Z
UID:3603-1549872000-1550250000@saintamandbayonne.fr
SUMMARY:Stage en entreprise des 3èmes
DESCRIPTION:
URL:https://saintamandbayonne.fr/event/stage-en-entreprise-des-3emes/
END:VEVENT
BEGIN:VEVENT
DTSTART;TZID=Europe/Paris:20190211T080000
DTEND;TZID=Europe/Paris:20190215T170000
DTSTAMP:20260424T144625
CREATED:20190202T210916Z
LAST-MODIFIED:20190202T210916Z
UID:3743-1549872000-1550250000@saintamandbayonne.fr
SUMMARY:Semaine au ski des CM2
DESCRIPTION:Semaine à Gourette \n
URL:https://saintamandbayonne.fr/event/semaine-au-ski-des-cm2/
END:VEVENT
BEGIN:VEVENT
DTSTART;TZID=Europe/Paris:20190212T113000
DTEND;TZID=Europe/Paris:20190212T123000
DTSTAMP:20260424T144625
CREATED:20190129T194832Z
LAST-MODIFIED:20190129T194832Z
UID:3735-1549971000-1549974600@saintamandbayonne.fr
SUMMARY:5B Sécurité routière
DESCRIPTION:Intervention de Mme Iriart de Chronoplus auprès des élèves de 5B \n
URL:https://saintamandbayonne.fr/event/5b-securite-routiere/
END:VEVENT
BEGIN:VEVENT
DTSTART;TZID=Europe/Paris:20190212T133000
DTEND;TZID=Europe/Paris:20190212T143000
DTSTAMP:20260424T144625
CREATED:20190129T194933Z
LAST-MODIFIED:20190129T194933Z
UID:3737-1549978200-1549981800@saintamandbayonne.fr
SUMMARY:5C Sécurité routière
DESCRIPTION:Intervention de Mme Iriart de Chronoplus auprès des élèves de 5C \n
URL:https://saintamandbayonne.fr/event/5c-securite-routiere/
END:VEVENT
END:VCALENDAR