BEGIN:VCALENDAR
VERSION:2.0
PRODID:-//Etablissement St Amand de Bayonne - ECPv4.6.22.1//NONSGML v1.0//EN
CALSCALE:GREGORIAN
METHOD:PUBLISH
X-WR-CALNAME:Etablissement St Amand de Bayonne
X-ORIGINAL-URL:https://saintamandbayonne.fr
X-WR-CALDESC:Évènements pour Etablissement St Amand de Bayonne
BEGIN:VEVENT
DTSTART;TZID=Europe/Paris:20190216T080000
DTEND;TZID=Europe/Paris:20190303T170000
DTSTAMP:20260424T160847
CREATED:20181201T214224Z
LAST-MODIFIED:20181201T214224Z
UID:3605-1550304000-1551632400@saintamandbayonne.fr
SUMMARY:Vacances
DESCRIPTION:
URL:https://saintamandbayonne.fr/event/vacances-5/
END:VEVENT
END:VCALENDAR