BEGIN:VCALENDAR
VERSION:2.0
PRODID:-//Etablissement St Amand de Bayonne - ECPv4.6.22.1//NONSGML v1.0//EN
CALSCALE:GREGORIAN
METHOD:PUBLISH
X-WR-CALNAME:Etablissement St Amand de Bayonne
X-ORIGINAL-URL:https://saintamandbayonne.fr
X-WR-CALDESC:Évènements pour Etablissement St Amand de Bayonne
BEGIN:VEVENT
DTSTART;TZID=Europe/Paris:20190312T140000
DTEND;TZID=Europe/Paris:20190312T150000
DTSTAMP:20260424T131706
CREATED:20190310T142639Z
LAST-MODIFIED:20190310T142639Z
UID:3815-1552399200-1552402800@saintamandbayonne.fr
SUMMARY:Les Maternelles à la plaine d'Ansot
DESCRIPTION:Après midi pour les MS sur le thème « les couleurs de la nature et nos émotions » \n
URL:https://saintamandbayonne.fr/event/les-maternelles-a-la-plaine-dansot/
END:VEVENT
BEGIN:VEVENT
DTSTART;TZID=Europe/Paris:20190312T170000
DTEND;TZID=Europe/Paris:20190312T193000
DTSTAMP:20260424T131706
CREATED:20190119T193849Z
LAST-MODIFIED:20190119T193849Z
UID:3676-1552410000-1552419000@saintamandbayonne.fr
SUMMARY:Conseils de classe de 3C et 6C
DESCRIPTION:
URL:https://saintamandbayonne.fr/event/conseils-de-classe-de-3c-et-6c/
END:VEVENT
END:VCALENDAR