BEGIN:VCALENDAR
VERSION:2.0
PRODID:-//Etablissement St Amand de Bayonne - ECPv4.6.22.1//NONSGML v1.0//EN
CALSCALE:GREGORIAN
METHOD:PUBLISH
X-WR-CALNAME:Etablissement St Amand de Bayonne
X-ORIGINAL-URL:https://saintamandbayonne.fr
X-WR-CALDESC:Évènements pour Etablissement St Amand de Bayonne
BEGIN:VEVENT
DTSTART;TZID=Europe/Paris:20190314T130000
DTEND;TZID=Europe/Paris:20190314T133000
DTSTAMP:20260424T131547
CREATED:20190310T143332Z
LAST-MODIFIED:20190310T143332Z
UID:3825-1552568400-1552570200@saintamandbayonne.fr
SUMMARY:Un mois un métier
DESCRIPTION:Mme Son présente son parcours professionnel aux élèves de 3ème. \n
URL:https://saintamandbayonne.fr/event/un-mois-un-metier/
END:VEVENT
BEGIN:VEVENT
DTSTART;TZID=Europe/Paris:20190314T170000
DTEND;TZID=Europe/Paris:20190314T193000
DTSTAMP:20260424T131547
CREATED:20190119T193939Z
LAST-MODIFIED:20190119T193939Z
UID:3678-1552582800-1552591800@saintamandbayonne.fr
SUMMARY:Conseils de classe de 6B et 6A
DESCRIPTION:
URL:https://saintamandbayonne.fr/event/conseils-de-classe-de-6b-et-6a/
END:VEVENT
END:VCALENDAR