BEGIN:VCALENDAR
VERSION:2.0
PRODID:-//Etablissement St Amand de Bayonne - ECPv4.6.22.1//NONSGML v1.0//EN
CALSCALE:GREGORIAN
METHOD:PUBLISH
X-WR-CALNAME:Etablissement St Amand de Bayonne
X-ORIGINAL-URL:https://saintamandbayonne.fr
X-WR-CALDESC:Évènements pour Etablissement St Amand de Bayonne
BEGIN:VEVENT
DTSTART;TZID=Europe/Paris:20190316T093000
DTEND;TZID=Europe/Paris:20190316T123000
DTSTAMP:20260424T131659
CREATED:20190208T174125Z
LAST-MODIFIED:20190208T174125Z
UID:3752-1552728600-1552739400@saintamandbayonne.fr
SUMMARY:Portes Ouvertes
DESCRIPTION:Matinée de découverte du collège pour les futurs élèves de 6ème. \n
URL:https://saintamandbayonne.fr/event/portes-ouvertes/
END:VEVENT
END:VCALENDAR