BEGIN:VCALENDAR
VERSION:2.0
PRODID:-//Etablissement St Amand de Bayonne - ECPv4.6.22.1//NONSGML v1.0//EN
CALSCALE:GREGORIAN
METHOD:PUBLISH
X-WR-CALNAME:Etablissement St Amand de Bayonne
X-ORIGINAL-URL:https://saintamandbayonne.fr
X-WR-CALDESC:Évènements pour Etablissement St Amand de Bayonne
BEGIN:VEVENT
DTSTART;TZID=Europe/Paris:20190321T083000
DTEND;TZID=Europe/Paris:20190321T093000
DTSTAMP:20260424T131516
CREATED:20190310T143937Z
LAST-MODIFIED:20190310T143937Z
UID:3834-1553157000-1553160600@saintamandbayonne.fr
SUMMARY:Kangourou des Mathématiques
DESCRIPTION:Pour tous les collégiens volontaires. \n
URL:https://saintamandbayonne.fr/event/kangourou-des-mathematiques-2/
END:VEVENT
END:VCALENDAR