BEGIN:VCALENDAR
VERSION:2.0
PRODID:-//Etablissement St Amand de Bayonne - ECPv4.6.22.1//NONSGML v1.0//EN
CALSCALE:GREGORIAN
METHOD:PUBLISH
X-WR-CALNAME:Etablissement St Amand de Bayonne
X-ORIGINAL-URL:https://saintamandbayonne.fr
X-WR-CALDESC:Évènements pour Etablissement St Amand de Bayonne
BEGIN:VEVENT
DTSTART;TZID=Europe/Paris:20190409T080000
DTEND;TZID=Europe/Paris:20190409T170000
DTSTAMP:20260424T114923
CREATED:20190310T143818Z
LAST-MODIFIED:20190310T143818Z
UID:3832-1554796800-1554829200@saintamandbayonne.fr
SUMMARY:ASSR 2 en 3A et 3B
DESCRIPTION:En H1 pour les 3A et en H5 pour les 3B. \n
URL:https://saintamandbayonne.fr/event/assr-2-en-3a-et-3b/
END:VEVENT
END:VCALENDAR