BEGIN:VCALENDAR
VERSION:2.0
PRODID:-//Etablissement St Amand de Bayonne - ECPv4.6.22.1//NONSGML v1.0//EN
CALSCALE:GREGORIAN
METHOD:PUBLISH
X-WR-CALNAME:Etablissement St Amand de Bayonne
X-ORIGINAL-URL:https://saintamandbayonne.fr
X-WR-CALDESC:Évènements pour Etablissement St Amand de Bayonne
BEGIN:VEVENT
DTSTART;TZID=Europe/Paris:20190412T140000
DTEND;TZID=Europe/Paris:20190412T170000
DTSTAMP:20260424T114734
CREATED:20190424T211702Z
LAST-MODIFIED:20190424T211702Z
UID:4071-1555077600-1555088400@saintamandbayonne.fr
SUMMARY:Fête des 100
DESCRIPTION:Exposition organisée par les CP qui fêtent leur 100ème jour d’école. \n
URL:https://saintamandbayonne.fr/event/fete-des-100/
END:VEVENT
END:VCALENDAR