BEGIN:VCALENDAR
VERSION:2.0
PRODID:-//Etablissement St Amand de Bayonne - ECPv4.6.22.1//NONSGML v1.0//EN
CALSCALE:GREGORIAN
METHOD:PUBLISH
X-WR-CALNAME:Etablissement St Amand de Bayonne
X-ORIGINAL-URL:https://saintamandbayonne.fr
X-WR-CALDESC:Évènements pour Etablissement St Amand de Bayonne
BEGIN:VEVENT
DTSTART;TZID=Europe/Paris:20190509T083000
DTEND;TZID=Europe/Paris:20190510T113000
DTSTAMP:20260424T102701
CREATED:20190424T211203Z
LAST-MODIFIED:20190424T211203Z
UID:4069-1557390600-1557487800@saintamandbayonne.fr
SUMMARY:Intégration 6ème
DESCRIPTION:Les CM2 assistent aux cours de 6ème durant une matinée de la semaine. \n
URL:https://saintamandbayonne.fr/event/integration-6eme-2/
END:VEVENT
BEGIN:VEVENT
DTSTART;TZID=Europe/Paris:20190509T130000
DTEND;TZID=Europe/Paris:20190509T130000
DTSTAMP:20260424T102701
CREATED:20190503T195306Z
LAST-MODIFIED:20190503T195306Z
UID:4162-1557406800-1557406800@saintamandbayonne.fr
SUMMARY:Un mois un métier
DESCRIPTION:M. Roteret présente son métier aux élèves de 4ème et 3ème. \n
URL:https://saintamandbayonne.fr/event/un-mois-un-metier-3/
END:VEVENT
END:VCALENDAR