BEGIN:VCALENDAR
VERSION:2.0
PRODID:-//Etablissement St Amand de Bayonne - ECPv4.6.22.1//NONSGML v1.0//EN
CALSCALE:GREGORIAN
METHOD:PUBLISH
X-WR-CALNAME:Etablissement St Amand de Bayonne
X-ORIGINAL-URL:https://saintamandbayonne.fr
X-WR-CALDESC:Évènements pour Etablissement St Amand de Bayonne
BEGIN:VEVENT
DTSTART;TZID=Europe/Paris:20190520T080000
DTEND;TZID=Europe/Paris:20190521T170000
DTSTAMP:20260424T102552
CREATED:20190119T194524Z
LAST-MODIFIED:20190119T194524Z
UID:3688-1558339200-1558458000@saintamandbayonne.fr
SUMMARY:Brevet blanc
DESCRIPTION:
URL:https://saintamandbayonne.fr/event/brevet-blanc-3/
END:VEVENT
BEGIN:VEVENT
DTSTART;TZID=Europe/Paris:20190520T083000
DTEND;TZID=Europe/Paris:20190520T163000
DTSTAMP:20260424T102552
CREATED:20190517T194815Z
LAST-MODIFIED:20190517T194815Z
UID:4233-1558341000-1558369800@saintamandbayonne.fr
SUMMARY:Répétitions de la chorale
DESCRIPTION:Préparation du concert Jazz’in collège à Saint Pée sur Nivelle \n
URL:https://saintamandbayonne.fr/event/repetitions-de-la-chorale/
END:VEVENT
END:VCALENDAR