BEGIN:VCALENDAR
VERSION:2.0
PRODID:-//Etablissement St Amand de Bayonne - ECPv4.6.22.1//NONSGML v1.0//EN
CALSCALE:GREGORIAN
METHOD:PUBLISH
X-WR-CALNAME:Etablissement St Amand de Bayonne
X-ORIGINAL-URL:https://saintamandbayonne.fr
X-WR-CALDESC:Évènements pour Etablissement St Amand de Bayonne
BEGIN:VEVENT
DTSTART;TZID=Europe/Paris:20190610T080000
DTEND;TZID=Europe/Paris:20190610T170000
DTSTAMP:20260424T090107
CREATED:20190517T200729Z
LAST-MODIFIED:20190517T201016Z
UID:4249-1560153600-1560186000@saintamandbayonne.fr
SUMMARY:Pentecôte
DESCRIPTION:
URL:https://saintamandbayonne.fr/event/pentecote/
END:VEVENT
END:VCALENDAR