BEGIN:VCALENDAR
VERSION:2.0
PRODID:-//Etablissement St Amand de Bayonne - ECPv4.6.22.1//NONSGML v1.0//EN
CALSCALE:GREGORIAN
METHOD:PUBLISH
X-WR-CALNAME:Etablissement St Amand de Bayonne
X-ORIGINAL-URL:https://saintamandbayonne.fr
X-WR-CALDESC:Évènements pour Etablissement St Amand de Bayonne
BEGIN:VEVENT
DTSTART;TZID=Europe/Paris:20190614T140000
DTEND;TZID=Europe/Paris:20190614T220000
DTSTAMP:20260424T090902
CREATED:20190527T193714Z
LAST-MODIFIED:20190527T193714Z
UID:4270-1560520800-1560549600@saintamandbayonne.fr
SUMMARY:Fête de l'école
DESCRIPTION:
URL:https://saintamandbayonne.fr/event/fete-de-lecole/
END:VEVENT
END:VCALENDAR