BEGIN:VCALENDAR
VERSION:2.0
PRODID:-//Etablissement St Amand de Bayonne - ECPv4.6.22.1//NONSGML v1.0//EN
CALSCALE:GREGORIAN
METHOD:PUBLISH
X-WR-CALNAME:Etablissement St Amand de Bayonne
X-ORIGINAL-URL:https://saintamandbayonne.fr
X-WR-CALDESC:Évènements pour Etablissement St Amand de Bayonne
BEGIN:VEVENT
DTSTART;TZID=Europe/Paris:20190905T170000
DTEND;TZID=Europe/Paris:20190905T190000
DTSTAMP:20260424T044219
CREATED:20190822T124829Z
LAST-MODIFIED:20190822T124829Z
UID:4599-1567702800-1567710000@saintamandbayonne.fr
SUMMARY:Réunion parents / professeurs de 3ème
DESCRIPTION:
URL:https://saintamandbayonne.fr/event/reunion-parents-professeurs-de-3eme/
END:VEVENT
END:VCALENDAR