BEGIN:VCALENDAR
VERSION:2.0
PRODID:-//Etablissement St Amand de Bayonne - ECPv4.6.22.1//NONSGML v1.0//EN
CALSCALE:GREGORIAN
METHOD:PUBLISH
X-WR-CALNAME:Etablissement St Amand de Bayonne
X-ORIGINAL-URL:https://saintamandbayonne.fr
X-WR-CALDESC:Évènements pour Etablissement St Amand de Bayonne
BEGIN:VEVENT
DTSTART;TZID=Europe/Paris:20190906T170000
DTEND;TZID=Europe/Paris:20190906T190000
DTSTAMP:20260424T044221
CREATED:20190822T124917Z
LAST-MODIFIED:20190822T124917Z
UID:4601-1567789200-1567796400@saintamandbayonne.fr
SUMMARY:Réunion parents / professeurs de 4ème
DESCRIPTION:
URL:https://saintamandbayonne.fr/event/reunion-parents-professeurs-de-4eme/
END:VEVENT
END:VCALENDAR