BEGIN:VCALENDAR
VERSION:2.0
PRODID:-//Etablissement St Amand de Bayonne - ECPv4.6.22.1//NONSGML v1.0//EN
CALSCALE:GREGORIAN
METHOD:PUBLISH
X-WR-CALNAME:Etablissement St Amand de Bayonne
X-ORIGINAL-URL:https://saintamandbayonne.fr
X-WR-CALDESC:Évènements pour Etablissement St Amand de Bayonne
BEGIN:VEVENT
DTSTART;TZID=Europe/Paris:20191008T080000
DTEND;TZID=Europe/Paris:20191008T170000
DTSTAMP:20260424T032406
CREATED:20191001T110952Z
LAST-MODIFIED:20191001T110952Z
UID:4727-1570521600-1570554000@saintamandbayonne.fr
SUMMARY:Evaluations 6A
DESCRIPTION:Evaluations nationales en Français \n
URL:https://saintamandbayonne.fr/event/evaluations-6a-2/
END:VEVENT
BEGIN:VEVENT
DTSTART;TZID=Europe/Paris:20191008T190000
DTEND;TZID=Europe/Paris:20191008T210000
DTSTAMP:20260424T032406
CREATED:20191001T110547Z
LAST-MODIFIED:20191001T110547Z
UID:4719-1570561200-1570568400@saintamandbayonne.fr
SUMMARY:Assemblée générale de l'APEL
DESCRIPTION:
URL:https://saintamandbayonne.fr/event/assemblee-generale-de-lapel-2/
END:VEVENT
END:VCALENDAR