BEGIN:VCALENDAR
VERSION:2.0
PRODID:-//Etablissement St Amand de Bayonne - ECPv4.6.22.1//NONSGML v1.0//EN
CALSCALE:GREGORIAN
METHOD:PUBLISH
X-WR-CALNAME:Etablissement St Amand de Bayonne
X-ORIGINAL-URL:https://saintamandbayonne.fr
X-WR-CALDESC:Évènements pour Etablissement St Amand de Bayonne
BEGIN:VEVENT
DTSTART;TZID=Europe/Paris:20191107T083000
DTEND;TZID=Europe/Paris:20191107T103000
DTSTAMP:20260424T020556
CREATED:20191026T073842Z
LAST-MODIFIED:20191026T073842Z
UID:4853-1573115400-1573122600@saintamandbayonne.fr
SUMMARY:Formation des délégués de classe
DESCRIPTION:
URL:https://saintamandbayonne.fr/event/formation-des-delegues-de-classe/
END:VEVENT
BEGIN:VEVENT
DTSTART;TZID=Europe/Paris:20191107T180000
DTEND;TZID=Europe/Paris:20191107T190000
DTSTAMP:20260424T020556
CREATED:20191026T073937Z
LAST-MODIFIED:20191026T073937Z
UID:4855-1573149600-1573153200@saintamandbayonne.fr
SUMMARY:Rencontre des parents de CM2
DESCRIPTION:
URL:https://saintamandbayonne.fr/event/rencontre-des-parents-de-cm2/
END:VEVENT
END:VCALENDAR