BEGIN:VCALENDAR
VERSION:2.0
PRODID:-//Etablissement St Amand de Bayonne - ECPv4.6.22.1//NONSGML v1.0//EN
CALSCALE:GREGORIAN
METHOD:PUBLISH
X-WR-CALNAME:Etablissement St Amand de Bayonne
X-ORIGINAL-URL:https://saintamandbayonne.fr
X-WR-CALDESC:Évènements pour Etablissement St Amand de Bayonne
BEGIN:VEVENT
DTSTART;TZID=Europe/Paris:20191115T080000
DTEND;TZID=Europe/Paris:20191115T083000
DTSTAMP:20260424T020806
CREATED:20191026T074144Z
LAST-MODIFIED:20191026T074144Z
UID:4859-1573804800-1573806600@saintamandbayonne.fr
SUMMARY:Messe pour le cycle 3
DESCRIPTION:
URL:https://saintamandbayonne.fr/event/messe-pour-le-cycle-3/
END:VEVENT
END:VCALENDAR