BEGIN:VCALENDAR
VERSION:2.0
PRODID:-//Etablissement St Amand de Bayonne - ECPv4.6.22.1//NONSGML v1.0//EN
CALSCALE:GREGORIAN
METHOD:PUBLISH
X-WR-CALNAME:Etablissement St Amand de Bayonne
X-ORIGINAL-URL:https://saintamandbayonne.fr
X-WR-CALDESC:Évènements pour Etablissement St Amand de Bayonne
BEGIN:VEVENT
DTSTART;TZID=Europe/Paris:20191125T170000
DTEND;TZID=Europe/Paris:20191125T193000
DTSTAMP:20260424T003333
CREATED:20191001T111828Z
LAST-MODIFIED:20191001T111828Z
UID:4739-1574701200-1574710200@saintamandbayonne.fr
SUMMARY:Conseils de classe 3A 3B
DESCRIPTION:
URL:https://saintamandbayonne.fr/event/conseils-de-classe-3a-3b/
END:VEVENT
END:VCALENDAR