BEGIN:VCALENDAR
VERSION:2.0
PRODID:-//Etablissement St Amand de Bayonne - ECPv4.6.22.1//NONSGML v1.0//EN
CALSCALE:GREGORIAN
METHOD:PUBLISH
X-WR-CALNAME:Etablissement St Amand de Bayonne
X-ORIGINAL-URL:https://saintamandbayonne.fr
X-WR-CALDESC:Évènements pour Etablissement St Amand de Bayonne
BEGIN:VEVENT
DTSTART;TZID=Europe/Paris:20200117T180000
DTEND;TZID=Europe/Paris:20200117T190000
DTSTAMP:20260423T230332
CREATED:20191026T074530Z
LAST-MODIFIED:20191026T074530Z
UID:4865-1579284000-1579287600@saintamandbayonne.fr
SUMMARY:Remise des diplômes du DNB
DESCRIPTION:
URL:https://saintamandbayonne.fr/event/remise-des-diplomes-du-dnb/
END:VEVENT
END:VCALENDAR