BEGIN:VCALENDAR
VERSION:2.0
PRODID:-//Etablissement St Amand de Bayonne - ECPv4.6.22.1//NONSGML v1.0//EN
CALSCALE:GREGORIAN
METHOD:PUBLISH
X-WR-CALNAME:Etablissement St Amand de Bayonne
X-ORIGINAL-URL:https://saintamandbayonne.fr
X-WR-CALDESC:Évènements pour Etablissement St Amand de Bayonne
BEGIN:VEVENT
DTSTART;TZID=Europe/Paris:20200120T130000
DTEND;TZID=Europe/Paris:20200120T163000
DTSTAMP:20260423T230429
CREATED:20200110T170808Z
LAST-MODIFIED:20200110T170808Z
UID:5076-1579525200-1579537800@saintamandbayonne.fr
SUMMARY:Les 5A et 5B au DIDAM
DESCRIPTION:Visite de l’exposition sur les photos de Thomas Pesquet \n
URL:https://saintamandbayonne.fr/event/les-5a-et-5b-au-didam/
END:VEVENT
BEGIN:VEVENT
DTSTART;TZID=Europe/Paris:20200120T170000
DTEND;TZID=Europe/Paris:20200120T190000
DTSTAMP:20260423T230429
CREATED:20191001T113750Z
LAST-MODIFIED:20191001T113750Z
UID:4769-1579539600-1579546800@saintamandbayonne.fr
SUMMARY:Mini conseils 3A 3B 3C
DESCRIPTION:
URL:https://saintamandbayonne.fr/event/mini-conseils-3a-3b-3c/
END:VEVENT
END:VCALENDAR