BEGIN:VCALENDAR
VERSION:2.0
PRODID:-//Etablissement St Amand de Bayonne - ECPv4.6.22.1//NONSGML v1.0//EN
CALSCALE:GREGORIAN
METHOD:PUBLISH
X-WR-CALNAME:Etablissement St Amand de Bayonne
X-ORIGINAL-URL:https://saintamandbayonne.fr
X-WR-CALDESC:Évènements pour Etablissement St Amand de Bayonne
BEGIN:VEVENT
DTSTART;TZID=Europe/Paris:20200121T170000
DTEND;TZID=Europe/Paris:20200121T193000
DTSTAMP:20260423T230419
CREATED:20191001T113850Z
LAST-MODIFIED:20191001T113850Z
UID:4771-1579626000-1579635000@saintamandbayonne.fr
SUMMARY:Mini conseils 6A 6B 6C
DESCRIPTION:
URL:https://saintamandbayonne.fr/event/mini-conseils-6a-6b-6c/
END:VEVENT
END:VCALENDAR