BEGIN:VCALENDAR
VERSION:2.0
PRODID:-//Etablissement St Amand de Bayonne - ECPv4.6.22.1//NONSGML v1.0//EN
CALSCALE:GREGORIAN
METHOD:PUBLISH
X-WR-CALNAME:Etablissement St Amand de Bayonne
X-ORIGINAL-URL:https://saintamandbayonne.fr
X-WR-CALDESC:Évènements pour Etablissement St Amand de Bayonne
BEGIN:VEVENT
DTSTART;TZID=Europe/Paris:20200122T080000
DTEND;TZID=Europe/Paris:20200122T123000
DTSTAMP:20260423T230442
CREATED:20200104T200204Z
LAST-MODIFIED:20200104T200204Z
UID:5014-1579680000-1579696200@saintamandbayonne.fr
SUMMARY:Demi journée pédagogique
DESCRIPTION:Pas de cours \n
URL:https://saintamandbayonne.fr/event/demi-journee-pedagogique/
END:VEVENT
END:VCALENDAR