BEGIN:VCALENDAR
VERSION:2.0
PRODID:-//Etablissement St Amand de Bayonne - ECPv4.6.22.1//NONSGML v1.0//EN
CALSCALE:GREGORIAN
METHOD:PUBLISH
X-WR-CALNAME:Etablissement St Amand de Bayonne
X-ORIGINAL-URL:https://saintamandbayonne.fr
X-WR-CALDESC:Évènements pour Etablissement St Amand de Bayonne
BEGIN:VEVENT
DTSTART;TZID=Europe/Paris:20200206T170000
DTEND;TZID=Europe/Paris:20200206T183000
DTSTAMP:20260423T211417
CREATED:20200104T200427Z
LAST-MODIFIED:20200104T200427Z
UID:5016-1581008400-1581013800@saintamandbayonne.fr
SUMMARY:Présentation des lycées
DESCRIPTION:Les directeurs des lycées viennent présenter leur établissement aux parents de 3ème \n
URL:https://saintamandbayonne.fr/event/presentation-des-lycees/
END:VEVENT
END:VCALENDAR